BEGIN:VCALENDAR
VERSION:2.0
PRODID:-//myllife.org//NONSGML kigkonsult.se iCalcreator 2.30.10//
CALSCALE:GREGORIAN
METHOD:PUBLISH
UID:6e33d7bc-dbb3-48c4-8a88-e23d5dc845b8
X-WR-CALDESC:
X-WR-RELCALID:96813459787a56f778e85161db472b1c
X-WR-TIMEZONE:America/New_York
BEGIN:VTIMEZONE
TZID:America/New_York
BEGIN:STANDARD
TZNAME:EST
DTSTART:20251102T020000
TZOFFSETFROM:-0400
TZOFFSETTO:-0500
RDATE:20261101T020000
RDATE:20271107T020000
END:STANDARD
BEGIN:DAYLIGHT
TZNAME:EDT
DTSTART:20260308T020000
TZOFFSETFROM:-0500
TZOFFSETTO:-0400
RDATE:20270314T020000
END:DAYLIGHT
END:VTIMEZONE
BEGIN:VEVENT
UID:71f0dcda-685d-4938-bfeb-4be6e1ebbdc2
DTSTAMP:20260423T104834Z
DESCRIPTION:
DTSTART;TZID=America/New_York:20260821T090000
DTEND;TZID=America/New_York:20260823T150000
LOCATION:Shenandoah National Park\, 3655 US Highway 211 East\, Luray\, VA 2
 2835 US
SUMMARY:MyLLife Annual Retreat
END:VEVENT
END:VCALENDAR
