BEGIN:VCALENDAR
VERSION:2.0
PRODID:-//myllife.org//NONSGML kigkonsult.se iCalcreator 2.30.10//
CALSCALE:GREGORIAN
METHOD:PUBLISH
UID:dc479b96-6420-4edc-ab93-6972cacd2449
X-WR-CALDESC:Remember that every vote makes a difference!
X-WR-RELCALID:f64d9f8b3113f2879469db1582192e77
X-WR-TIMEZONE:America/New_York
BEGIN:VTIMEZONE
TZID:America/New_York
BEGIN:STANDARD
TZNAME:EST
DTSTART:20261101T020000
TZOFFSETFROM:-0400
TZOFFSETTO:-0500
RDATE:20271107T020000
END:STANDARD
BEGIN:DAYLIGHT
TZNAME:EDT
DTSTART:20260308T020000
TZOFFSETFROM:-0500
TZOFFSETTO:-0400
RDATE:20270314T020000
RDATE:20280312T020000
END:DAYLIGHT
END:VTIMEZONE
BEGIN:VEVENT
UID:3104b7df-9c4d-4e49-9e1d-6f582fa864b2
DTSTAMP:20260423T153735Z
DESCRIPTION:Remember that every vote makes a difference!
DTSTART;TZID=America/New_York:20261108T000000
DTEND;TZID=America/New_York:20261108T235900
LOCATION:
SUMMARY:Election Day
END:VEVENT
END:VCALENDAR
