BEGIN:VCALENDAR
VERSION:2.0
PRODID:-//myllife.org//NONSGML kigkonsult.se iCalcreator 2.30.10//
CALSCALE:GREGORIAN
METHOD:PUBLISH
UID:717645a5-4d1a-4719-9fbc-db56db454e07
X-WR-CALDESC:
X-WR-RELCALID:6e8b3ef318f7f8911f32f4d14ebc6e97
X-WR-TIMEZONE:America/New_York
BEGIN:VTIMEZONE
TZID:America/New_York
BEGIN:STANDARD
TZNAME:EST
DTSTART:20261101T020000
TZOFFSETFROM:-0400
TZOFFSETTO:-0500
RDATE:20271107T020000
END:STANDARD
BEGIN:DAYLIGHT
TZNAME:EDT
DTSTART:20260308T020000
TZOFFSETFROM:-0500
TZOFFSETTO:-0400
RDATE:20270314T020000
RDATE:20280312T020000
END:DAYLIGHT
END:VTIMEZONE
BEGIN:VEVENT
UID:535852db-9731-460c-aad9-38e9ec6fd75f
DTSTAMP:20260423T171604Z
DESCRIPTION:
DTSTART;TZID=America/New_York:20261224T210000
DTEND;TZID=America/New_York:20261224T220000
LOCATION:https://us06web.zoom.us/j/89421008607
SUMMARY:MyLLife Weekly Admin Meeting
END:VEVENT
END:VCALENDAR
